git_url: https://git.bioconductor.org/packages/NetSAM git_branch: master git_last_commit: 61cf4fb git_last_commit_date: 2022-11-01 11:08:21 -0500 (Tue, 01 Nov 2022) Package: NetSAM Version: 1.39.0 Maintainer: Zhiao Shi MaintainerEmail: zhiao.shi at gmail.com