Package: NOISeq Version: 2.43.0 Command: chmod a+r NOISeq -R && F:\biocbuild\bbs-3.17-bioc\R\bin\R.exe CMD build --keep-empty-dirs --no-resave-data NOISeq StartedAt: 2022-12-28 19:22:22 -0500 (Wed, 28 Dec 2022) EndedAt: 2022-12-28 19:23:20 -0500 (Wed, 28 Dec 2022) EllapsedTime: 58.6 seconds RetCode: 0 Status: OK PackageFile: NOISeq_2.43.0.tar.gz PackageFileSize: 1.896 MiB