Package: NOISeq Version: 2.43.0 Command: rm -rf NOISeq.buildbin-libdir && mkdir NOISeq.buildbin-libdir && F:\biocbuild\bbs-3.17-bioc\R\bin\R.exe CMD INSTALL --build --library=NOISeq.buildbin-libdir NOISeq_2.43.0.tar.gz StartedAt: 2022-12-29 05:28:26 -0500 (Thu, 29 Dec 2022) EndedAt: 2022-12-29 05:28:41 -0500 (Thu, 29 Dec 2022) EllapsedTime: 14.9 seconds RetCode: 0 Status: OK PackageFile: NOISeq_2.43.0.zip PackageFileSize: 2.264 MiB