Package: MultiAssayExperiment Version: 1.25.5 Command: chmod a+r MultiAssayExperiment -R && F:\biocbuild\bbs-3.17-bioc\R\bin\R.exe CMD build --keep-empty-dirs --no-resave-data MultiAssayExperiment StartedAt: 2022-12-28 19:16:10 -0500 (Wed, 28 Dec 2022) EndedAt: 2022-12-28 19:17:16 -0500 (Wed, 28 Dec 2022) EllapsedTime: 65.8 seconds RetCode: 0 Status: OK PackageFile: MultiAssayExperiment_1.25.5.tar.gz PackageFileSize: 1.081 MiB