Package: MultiAssayExperiment Version: 1.25.5 Command: rm -rf MultiAssayExperiment.buildbin-libdir && mkdir MultiAssayExperiment.buildbin-libdir && F:\biocbuild\bbs-3.17-bioc\R\bin\R.exe CMD INSTALL --build --library=MultiAssayExperiment.buildbin-libdir MultiAssayExperiment_1.25.5.tar.gz StartedAt: 2022-12-29 05:26:38 -0500 (Thu, 29 Dec 2022) EndedAt: 2022-12-29 05:27:28 -0500 (Thu, 29 Dec 2022) EllapsedTime: 49.8 seconds RetCode: 0 Status: OK PackageFile: MultiAssayExperiment_1.25.5.zip PackageFileSize: 2.012 MiB