Package: MiPP Version: 1.71.0 Command: F:\biocbuild\bbs-3.17-bioc\R\bin\R.exe CMD check --no-multiarch --install=check:MiPP.install-out.txt --library=F:\biocbuild\bbs-3.17-bioc\R\library --no-vignettes --timings MiPP_1.71.0.tar.gz StartedAt: 2022-12-29 01:24:47 -0500 (Thu, 29 Dec 2022) EndedAt: 2022-12-29 01:25:58 -0500 (Thu, 29 Dec 2022) EllapsedTime: 70.9 seconds RetCode: 0 Status: OK CheckDir: MiPP.Rcheck Warnings: 0