Package: MiPP Version: 1.71.0 Command: chmod a+r MiPP -R && F:\biocbuild\bbs-3.17-bioc\R\bin\R.exe CMD build --keep-empty-dirs --no-resave-data MiPP StartedAt: 2022-12-28 19:05:39 -0500 (Wed, 28 Dec 2022) EndedAt: 2022-12-28 19:05:49 -0500 (Wed, 28 Dec 2022) EllapsedTime: 10.1 seconds RetCode: 0 Status: OK PackageFile: MiPP_1.71.0.tar.gz PackageFileSize: 319.6 KiB