Package: MiPP Version: 1.71.0 Command: rm -rf MiPP.buildbin-libdir && mkdir MiPP.buildbin-libdir && F:\biocbuild\bbs-3.17-bioc\R\bin\R.exe CMD INSTALL --build --library=MiPP.buildbin-libdir MiPP_1.71.0.tar.gz StartedAt: 2022-12-29 05:23:59 -0500 (Thu, 29 Dec 2022) EndedAt: 2022-12-29 05:24:04 -0500 (Thu, 29 Dec 2022) EllapsedTime: 5.6 seconds RetCode: 0 Status: OK PackageFile: MiPP_1.71.0.zip PackageFileSize: 379.7 KiB