Package: MSstatsQC Version: 2.17.0 Command: F:\biocbuild\bbs-3.17-bioc\R\bin\R.exe CMD check --no-multiarch --install=check:MSstatsQC.install-out.txt --library=F:\biocbuild\bbs-3.17-bioc\R\library --no-vignettes --timings MSstatsQC_2.17.0.tar.gz StartedAt: 2022-12-29 01:41:23 -0500 (Thu, 29 Dec 2022) EndedAt: 2022-12-29 01:41:26 -0500 (Thu, 29 Dec 2022) EllapsedTime: 3.0 seconds RetCode: 1 Status: ERROR CheckDir: MSstatsQC.Rcheck Warnings: NA