Package: MAGeCKFlute Version: 2.3.0 Command: F:\biocbuild\bbs-3.17-bioc\R\bin\R.exe CMD check --no-multiarch --install=check:MAGeCKFlute.install-out.txt --library=F:\biocbuild\bbs-3.17-bioc\R\library --no-vignettes --timings MAGeCKFlute_2.3.0.tar.gz StartedAt: 2022-12-29 01:00:57 -0500 (Thu, 29 Dec 2022) EndedAt: 2022-12-29 01:04:31 -0500 (Thu, 29 Dec 2022) EllapsedTime: 213.8 seconds RetCode: 0 Status: OK CheckDir: MAGeCKFlute.Rcheck Warnings: 0