Package: IMAS Version: 1.23.0 Command: F:\biocbuild\bbs-3.17-bioc\R\bin\R.exe CMD INSTALL IMAS StartedAt: 2022-12-28 16:15:54 -0500 (Wed, 28 Dec 2022) EndedAt: 2022-12-28 16:16:34 -0500 (Wed, 28 Dec 2022) EllapsedTime: 40.4 seconds RetCode: 0 Status: OK