Package: GSEABase Version: 1.61.0 Command: F:\biocbuild\bbs-3.17-bioc\R\bin\R.exe CMD check --no-multiarch --install=check:GSEABase.install-out.txt --library=F:\biocbuild\bbs-3.17-bioc\R\library --no-vignettes --timings GSEABase_1.61.0.tar.gz StartedAt: 2022-12-29 00:22:53 -0500 (Thu, 29 Dec 2022) EndedAt: 2022-12-29 00:24:55 -0500 (Thu, 29 Dec 2022) EllapsedTime: 122.4 seconds RetCode: 0 Status: OK CheckDir: GSEABase.Rcheck Warnings: 0