Package: GSEABase Version: 1.61.0 Command: rm -rf GSEABase.buildbin-libdir && mkdir GSEABase.buildbin-libdir && F:\biocbuild\bbs-3.17-bioc\R\bin\R.exe CMD INSTALL --build --library=GSEABase.buildbin-libdir GSEABase_1.61.0.tar.gz StartedAt: 2022-12-29 05:14:28 -0500 (Thu, 29 Dec 2022) EndedAt: 2022-12-29 05:15:03 -0500 (Thu, 29 Dec 2022) EllapsedTime: 35.2 seconds RetCode: 0 Status: OK PackageFile: GSEABase_1.61.0.zip PackageFileSize: 985.8 KiB