Package: GMRP Version: 1.27.0 Command: F:\biocbuild\bbs-3.17-bioc\R\bin\R.exe CMD INSTALL GMRP StartedAt: 2022-12-28 15:36:06 -0500 (Wed, 28 Dec 2022) EndedAt: 2022-12-28 15:36:19 -0500 (Wed, 28 Dec 2022) EllapsedTime: 13.0 seconds RetCode: 0 Status: OK