Package: GMRP Version: 1.27.0 Command: rm -rf GMRP.buildbin-libdir && mkdir GMRP.buildbin-libdir && F:\biocbuild\bbs-3.17-bioc\R\bin\R.exe CMD INSTALL --build --library=GMRP.buildbin-libdir GMRP_1.27.0.tar.gz StartedAt: 2022-12-29 05:13:26 -0500 (Thu, 29 Dec 2022) EndedAt: 2022-12-29 05:13:37 -0500 (Thu, 29 Dec 2022) EllapsedTime: 11.0 seconds RetCode: 0 Status: OK PackageFile: GMRP_1.27.0.zip PackageFileSize: 979.5 KiB