Package: GCSscore Version: 1.13.0 Command: F:\biocbuild\bbs-3.17-bioc\R\bin\R.exe CMD INSTALL GCSscore StartedAt: 2022-12-28 16:03:33 -0500 (Wed, 28 Dec 2022) EndedAt: 2022-12-28 16:03:34 -0500 (Wed, 28 Dec 2022) EllapsedTime: 0.7 seconds RetCode: 1 Status: ERROR