############################################################################## ############################################################################## ### ### Running command: ### ### chmod a+r GCSscore -R && F:\biocbuild\bbs-3.17-bioc\R\bin\R.exe CMD build --keep-empty-dirs --no-resave-data GCSscore ### ############################################################################## ############################################################################## * checking for file 'GCSscore/DESCRIPTION' ... OK * preparing 'GCSscore': * checking DESCRIPTION meta-information ... OK * installing the package to build vignettes ----------------------------------- ERROR: dependency 'affxparser' is not available for package 'GCSscore' * removing 'F:/biocbuild/bbs-3.17-bioc-rtools43/tmpdir/RtmpWySfL8/Rinst3b9857f07de8/GCSscore' ----------------------------------- ERROR: package installation failed