git_url: https://git.bioconductor.org/packages/EpiDISH git_branch: master git_last_commit: 1b9a3e7 git_last_commit_date: 2022-11-09 00:38:14 -0500 (Wed, 09 Nov 2022) Package: EpiDISH Version: 2.15.1 Maintainer: Shijie C. Zheng MaintainerEmail: shijieczheng at gmail.com