Package: EGSEA Version: 1.27.0 Command: F:\biocbuild\bbs-3.17-bioc\R\bin\R.exe CMD check --no-multiarch --install=check:EGSEA.install-out.txt --library=F:\biocbuild\bbs-3.17-bioc\R\library --no-vignettes --timings EGSEA_1.27.0.tar.gz StartedAt: 2022-12-28 23:30:29 -0500 (Wed, 28 Dec 2022) EndedAt: 2022-12-28 23:36:44 -0500 (Wed, 28 Dec 2022) EllapsedTime: 374.1 seconds RetCode: 0 Status: WARNINGS CheckDir: EGSEA.Rcheck Warnings: 2