Package: EGSEA Version: 1.27.0 Command: rm -rf EGSEA.buildbin-libdir && mkdir EGSEA.buildbin-libdir && F:\biocbuild\bbs-3.17-bioc\R\bin\R.exe CMD INSTALL --build --library=EGSEA.buildbin-libdir EGSEA_1.27.0.tar.gz StartedAt: 2022-12-29 05:06:21 -0500 (Thu, 29 Dec 2022) EndedAt: 2022-12-29 05:07:16 -0500 (Thu, 29 Dec 2022) EllapsedTime: 55.4 seconds RetCode: 0 Status: OK PackageFile: EGSEA_1.27.0.zip PackageFileSize: 2.35 MiB