git_url: https://git.bioconductor.org/packages/Director git_branch: master git_last_commit: 0a7c502 git_last_commit_date: 2022-11-01 11:13:44 -0500 (Tue, 01 Nov 2022) Package: Director Version: 1.25.0 Maintainer: Katherine Icay MaintainerEmail: kat.icay at gmail.com