git_url: https://git.bioconductor.org/packages/DNAfusion git_branch: master git_last_commit: c621ca1 git_last_commit_date: 2022-12-13 06:36:53 -0500 (Tue, 13 Dec 2022) Package: DNAfusion Version: 1.1.0 Maintainer: Christoffer Trier Maansson MaintainerEmail: ctm at clin.au.dk