git_url: https://git.bioconductor.org/packages/DECIPHER git_branch: master git_last_commit: ffdccd0 git_last_commit_date: 2022-11-01 11:06:21 -0500 (Tue, 01 Nov 2022) Package: DECIPHER Version: 2.27.0 Maintainer: Erik Wright MaintainerEmail: eswright at pitt.edu