git_url: https://git.bioconductor.org/packages/DAPAR git_branch: master git_last_commit: ccd817d git_last_commit_date: 2022-11-01 11:12:16 -0500 (Tue, 01 Nov 2022) Package: DAPAR Version: 1.31.0 Maintainer: Samuel Wieczorek MaintainerEmail: samuel.wieczorek at cea.fr