Package: CytoDx Version: 1.19.0 Command: F:\biocbuild\bbs-3.17-bioc\R\bin\R.exe CMD INSTALL CytoDx StartedAt: 2022-12-28 16:18:55 -0500 (Wed, 28 Dec 2022) EndedAt: 2022-12-28 16:19:08 -0500 (Wed, 28 Dec 2022) EllapsedTime: 13.2 seconds RetCode: 0 Status: OK