git_url: https://git.bioconductor.org/packages/CRISPRseek git_branch: master git_last_commit: 1ce9399 git_last_commit_date: 2022-11-01 11:09:00 -0500 (Tue, 01 Nov 2022) Package: CRISPRseek Version: 1.39.0 Maintainer: Lihua Julie Zhu MaintainerEmail: julie.zhu at umassmed.edu