Package: COTAN Version: 1.3.0 Command: F:\biocbuild\bbs-3.17-bioc\R\bin\R.exe CMD check --no-multiarch --install=check:COTAN.install-out.txt --library=F:\biocbuild\bbs-3.17-bioc\R\library --no-vignettes --timings COTAN_1.3.0.tar.gz StartedAt: 2022-12-28 22:50:12 -0500 (Wed, 28 Dec 2022) EndedAt: 2022-12-28 22:53:02 -0500 (Wed, 28 Dec 2022) EllapsedTime: 169.6 seconds RetCode: 0 Status: OK CheckDir: COTAN.Rcheck Warnings: 0