Package: COTAN Version: 1.3.0 Command: rm -rf COTAN.buildbin-libdir && mkdir COTAN.buildbin-libdir && F:\biocbuild\bbs-3.17-bioc\R\bin\R.exe CMD INSTALL --build --library=COTAN.buildbin-libdir COTAN_1.3.0.tar.gz StartedAt: 2022-12-29 05:00:58 -0500 (Thu, 29 Dec 2022) EndedAt: 2022-12-29 05:01:20 -0500 (Thu, 29 Dec 2022) EllapsedTime: 22.0 seconds RetCode: 0 Status: OK PackageFile: COTAN_1.3.0.zip PackageFileSize: 2.724 MiB