Package: CMA Version: 1.57.0 Command: rm -rf CMA.buildbin-libdir && mkdir CMA.buildbin-libdir && F:\biocbuild\bbs-3.17-bioc\R\bin\R.exe CMD INSTALL --build --library=CMA.buildbin-libdir CMA_1.57.0.tar.gz StartedAt: 2022-12-29 04:58:48 -0500 (Thu, 29 Dec 2022) EndedAt: 2022-12-29 04:59:13 -0500 (Thu, 29 Dec 2022) EllapsedTime: 24.6 seconds RetCode: 0 Status: OK PackageFile: CMA_1.57.0.zip PackageFileSize: 1.707 MiB