git_url: https://git.bioconductor.org/packages/BiGGR git_branch: master git_last_commit: 46348b7 git_last_commit_date: 2022-11-01 11:08:39 -0500 (Tue, 01 Nov 2022) Package: BiGGR Version: 1.35.0 Maintainer: Anand K. Gavai MaintainerEmail: anand.gavai at bioinformatics.nl