Package: ALDEx2 Version: 1.31.0 Command: F:\biocbuild\bbs-3.17-bioc\R\bin\R.exe CMD check --no-multiarch --install=check:ALDEx2.install-out.txt --library=F:\biocbuild\bbs-3.17-bioc\R\library --no-vignettes --timings ALDEx2_1.31.0.tar.gz StartedAt: 2022-12-28 21:29:58 -0500 (Wed, 28 Dec 2022) EndedAt: 2022-12-28 21:32:49 -0500 (Wed, 28 Dec 2022) EllapsedTime: 171.3 seconds RetCode: 0 Status: WARNINGS CheckDir: ALDEx2.Rcheck Warnings: 1