Package: ALDEx2 Version: 1.31.0 Command: rm -rf ALDEx2.buildbin-libdir && mkdir ALDEx2.buildbin-libdir && F:\biocbuild\bbs-3.17-bioc\R\bin\R.exe CMD INSTALL --build --library=ALDEx2.buildbin-libdir ALDEx2_1.31.0.tar.gz StartedAt: 2022-12-29 04:48:59 -0500 (Thu, 29 Dec 2022) EndedAt: 2022-12-29 04:49:30 -0500 (Thu, 29 Dec 2022) EllapsedTime: 30.6 seconds RetCode: 0 Status: OK PackageFile: ALDEx2_1.31.0.zip PackageFileSize: 695.9 KiB