git_url: https://git.bioconductor.org/packages/AGDEX git_branch: master git_last_commit: e9f212e git_last_commit_date: 2022-11-01 11:06:18 -0500 (Tue, 01 Nov 2022) Package: AGDEX Version: 1.47.0 Maintainer: Cuilan lani Gao MaintainerEmail: cuilan.gao at stjude.org