Package: yarn Version: 1.26.0 Command: /Library/Frameworks/R.framework/Resources/bin/R CMD check --install=check:yarn.install-out.txt --library=/Library/Frameworks/R.framework/Resources/library --no-vignettes --timings yarn_1.26.0.tar.gz StartedAt: 2023-10-19 10:37:59 -0400 (Thu, 19 Oct 2023) EndedAt: 2023-10-19 10:50:29 -0400 (Thu, 19 Oct 2023) EllapsedTime: 749.5 seconds RetCode: 0 Status: OK CheckDir: yarn.Rcheck Warnings: 0