Package: xmapbridge Version: 1.58.0 Command: rm -rf xmapbridge.buildbin-libdir && mkdir xmapbridge.buildbin-libdir && /Users/biocbuild/BBS/utils/build-universal.sh xmapbridge_1.58.0.tar.gz /Library/Frameworks/R.framework/Resources/bin/R xmapbridge.buildbin-libdir StartedAt: 2023-10-19 18:11:49 -0400 (Thu, 19 Oct 2023) EndedAt: 2023-10-19 18:11:58 -0400 (Thu, 19 Oct 2023) EllapsedTime: 9.0 seconds RetCode: 0 Status: OK PackageFile: xmapbridge_1.58.0.tgz PackageFileSize: 1.76 MiB