Package: widgetTools Version: 1.78.0 Command: /Library/Frameworks/R.framework/Resources/bin/R CMD build --keep-empty-dirs --no-resave-data widgetTools StartedAt: 2023-10-17 00:45:23 -0400 (Tue, 17 Oct 2023) EndedAt: 2023-10-17 00:45:44 -0400 (Tue, 17 Oct 2023) EllapsedTime: 21.3 seconds RetCode: 0 Status: OK PackageFile: widgetTools_1.78.0.tar.gz PackageFileSize: 227.3 KiB