Package: vissE Version: 1.8.0 Command: /Library/Frameworks/R.framework/Resources/bin/R CMD INSTALL vissE StartedAt: 2023-10-15 20:02:55 -0400 (Sun, 15 Oct 2023) EndedAt: 2023-10-15 20:03:05 -0400 (Sun, 15 Oct 2023) EllapsedTime: 9.8 seconds RetCode: 0 Status: OK