git_url: https://git.bioconductor.org/packages/trigger git_branch: RELEASE_3_17 git_last_commit: 9571324 git_last_commit_date: 2023-04-25 10:21:49 -0400 (Tue, 25 Apr 2023) Package: trigger Version: 1.46.0 Maintainer: John D. Storey MaintainerEmail: jstorey at princeton.edu