Package: treekoR Version: 1.8.0 Command: rm -rf treekoR.buildbin-libdir && mkdir treekoR.buildbin-libdir && /Users/biocbuild/BBS/utils/build-universal.sh treekoR_1.8.0.tar.gz /Library/Frameworks/R.framework/Resources/bin/R treekoR.buildbin-libdir StartedAt: 2023-10-19 17:56:34 -0400 (Thu, 19 Oct 2023) EndedAt: 2023-10-19 17:57:59 -0400 (Thu, 19 Oct 2023) EllapsedTime: 85.0 seconds RetCode: 0 Status: OK PackageFile: treekoR_1.8.0.tgz PackageFileSize: 1.646 MiB