Back to Mac ARM64 build report for BioC 3.17 |
|
This page was generated on 2023-10-20 09:37:57 -0400 (Fri, 20 Oct 2023).
Hostname | OS | Arch (*) | R version | Installed pkgs |
---|---|---|---|---|
kjohnson2 | macOS 12.6.1 Monterey | arm64 | 4.3.1 (2023-06-16) -- "Beagle Scouts" | 4347 |
Click on any hostname to see more info about the system (e.g. compilers) (*) as reported by 'uname -p', except on Windows and Mac OS X |
To the developers/maintainers of the topGO package: - Use the following Renviron settings to reproduce errors and warnings. - If 'R CMD check' started to fail recently on the Linux builder(s) over a missing dependency, add the missing dependency to 'Suggests:' in your DESCRIPTION file. See Renviron.bioc for more information. |
Package 2116/2230 | Hostname | OS / Arch | INSTALL | BUILD | CHECK | BUILD BIN | ||||||||
topGO 2.52.0 (landing page) Adrian Alexa
| kjohnson2 | macOS 12.6.1 Monterey / arm64 | OK | OK | OK | OK | ![]() | |||||||
QUICK STATS | OS / Arch | INSTALL | BUILD | CHECK | BUILD BIN | |||||||||||||||||
kjohnson2 | macOS 12.6.1 Monterey / arm64 |
|
|
|
| |||||||||||||||||
Package 1/18 | Hostname | OS / Arch | INSTALL | BUILD | CHECK | BUILD BIN | ||||||||||||||||
APL 1.4.0 (landing page) Elzbieta Gralinska
| kjohnson2 | macOS 12.6.1 Monterey / arm64 | OK | OK | OK | OK | ![]() | |||||||||||||||
Package 2/18 | Hostname | OS / Arch | INSTALL | BUILD | CHECK | BUILD BIN | ||||||||||||||||
BgeeDB 2.26.0 (landing page) Julien Wollbrett
| kjohnson2 | macOS 12.6.1 Monterey / arm64 | OK | OK | OK | OK | ![]() | |||||||||||||||
Package 3/18 | Hostname | OS / Arch | INSTALL | BUILD | CHECK | BUILD BIN | ||||||||||||||||
BioMM 1.16.0 (landing page) Junfang Chen
| kjohnson2 | macOS 12.6.1 Monterey / arm64 | OK | ERROR | skipped | skipped | ||||||||||||||||
Package 4/18 | Hostname | OS / Arch | INSTALL | BUILD | CHECK | BUILD BIN | ||||||||||||||||
cellity 1.28.0 (landing page) Tomislav Ilicic
| kjohnson2 | macOS 12.6.1 Monterey / arm64 | OK | OK | OK | OK | ![]() | |||||||||||||||
Package 5/18 | Hostname | OS / Arch | INSTALL | BUILD | CHECK | BUILD BIN | ||||||||||||||||
compEpiTools 1.34.1 (landing page) Mattia Furlan
| kjohnson2 | macOS 12.6.1 Monterey / arm64 | OK | OK | WARNINGS | OK | ![]() | |||||||||||||||
Package 6/18 | Hostname | OS / Arch | INSTALL | BUILD | CHECK | BUILD BIN | ||||||||||||||||
consICA 1.2.0 (landing page) Petr V. Nazarov
| kjohnson2 | macOS 12.6.1 Monterey / arm64 | OK | OK | OK | OK | ![]() | |||||||||||||||
Package 7/18 | Hostname | OS / Arch | INSTALL | BUILD | CHECK | BUILD BIN | ||||||||||||||||
EGSEA 1.28.0 (landing page) Monther Alhamdoosh
| kjohnson2 | macOS 12.6.1 Monterey / arm64 | OK | OK | WARNINGS | OK | ![]() | |||||||||||||||
Package 8/18 | Hostname | OS / Arch | INSTALL | BUILD | CHECK | BUILD BIN | ||||||||||||||||
FoldGO 1.18.0 (landing page) Daniil Wiebe
| kjohnson2 | macOS 12.6.1 Monterey / arm64 | OK | OK | WARNINGS | OK | ![]() | |||||||||||||||
Package 9/18 | Hostname | OS / Arch | INSTALL | BUILD | CHECK | BUILD BIN | ||||||||||||||||
GOSim 1.38.0 (landing page) Holger Froehlich
| kjohnson2 | macOS 12.6.1 Monterey / arm64 | OK | OK | OK | OK | ![]() | |||||||||||||||
Package 10/18 | Hostname | OS / Arch | INSTALL | BUILD | CHECK | BUILD BIN | ||||||||||||||||
GRaNIE 1.4.1 (landing page) Christian Arnold
| kjohnson2 | macOS 12.6.1 Monterey / arm64 | OK | OK | WARNINGS | OK | ![]() | |||||||||||||||
Package 11/18 | Hostname | OS / Arch | INSTALL | BUILD | CHECK | BUILD BIN | ||||||||||||||||
ideal 1.24.1 (landing page) Federico Marini
| kjohnson2 | macOS 12.6.1 Monterey / arm64 | OK | OK | OK | OK | ![]() | |||||||||||||||
Package 12/18 | Hostname | OS / Arch | INSTALL | BUILD | CHECK | BUILD BIN | ||||||||||||||||
moanin 1.8.0 (landing page) Nelle Varoquaux
| kjohnson2 | macOS 12.6.1 Monterey / arm64 | OK | OK | OK | OK | ![]() | |||||||||||||||
Package 13/18 | Hostname | OS / Arch | INSTALL | BUILD | CHECK | BUILD BIN | ||||||||||||||||
OmaDB 2.16.0 (landing page) Klara Kaleb
| kjohnson2 | macOS 12.6.1 Monterey / arm64 | OK | OK | OK | OK | ![]() | |||||||||||||||
Package 14/18 | Hostname | OS / Arch | INSTALL | BUILD | CHECK | BUILD BIN | ||||||||||||||||
pcaExplorer 2.26.1 (landing page) Federico Marini
| kjohnson2 | macOS 12.6.1 Monterey / arm64 | OK | OK | OK | OK | ![]() | |||||||||||||||
Package 15/18 | Hostname | OS / Arch | INSTALL | BUILD | CHECK | BUILD BIN | ||||||||||||||||
psygenet2r 1.32.2 (landing page) Alba Gutierrez-Sacristan
| kjohnson2 | macOS 12.6.1 Monterey / arm64 | OK | OK | OK | OK | ![]() | |||||||||||||||
Package 16/18 | Hostname | OS / Arch | INSTALL | BUILD | CHECK | BUILD BIN | ||||||||||||||||
transcriptogramer 1.22.0 (landing page) Diego Morais
| kjohnson2 | macOS 12.6.1 Monterey / arm64 | OK | TIMEOUT | skipped | skipped | ||||||||||||||||
Package 17/18 | Hostname | OS / Arch | INSTALL | BUILD | CHECK | BUILD BIN | ||||||||||||||||
tRanslatome 1.38.0 (landing page) Toma Tebaldi
| kjohnson2 | macOS 12.6.1 Monterey / arm64 | OK | OK | OK | OK | ![]() | |||||||||||||||
Package 18/18 | Hostname | OS / Arch | INSTALL | BUILD | CHECK | BUILD BIN | ||||||||||||||||
ViSEAGO 1.14.0 (landing page) Aurelien Brionne
| kjohnson2 | macOS 12.6.1 Monterey / arm64 | OK | OK | WARNINGS | OK | ![]() | |||||||||||||||