Package: timeOmics Version: 1.12.0 Command: /Library/Frameworks/R.framework/Resources/bin/R CMD INSTALL timeOmics StartedAt: 2023-10-15 16:11:09 -0400 (Sun, 15 Oct 2023) EndedAt: 2023-10-15 16:11:29 -0400 (Sun, 15 Oct 2023) EllapsedTime: 20.9 seconds RetCode: 0 Status: OK