Package: timeOmics Version: 1.12.0 Command: /Library/Frameworks/R.framework/Resources/bin/R CMD check --install=check:timeOmics.install-out.txt --library=/Library/Frameworks/R.framework/Resources/library --no-vignettes --timings timeOmics_1.12.0.tar.gz StartedAt: 2023-10-19 07:01:37 -0400 (Thu, 19 Oct 2023) EndedAt: 2023-10-19 07:07:27 -0400 (Thu, 19 Oct 2023) EllapsedTime: 350.1 seconds RetCode: 0 Status: OK CheckDir: timeOmics.Rcheck Warnings: 0