Package: timeOmics Version: 1.12.0 Command: /Library/Frameworks/R.framework/Resources/bin/R CMD build --keep-empty-dirs --no-resave-data timeOmics StartedAt: 2023-10-16 23:12:48 -0400 (Mon, 16 Oct 2023) EndedAt: 2023-10-16 23:14:00 -0400 (Mon, 16 Oct 2023) EllapsedTime: 71.1 seconds RetCode: 0 Status: OK PackageFile: timeOmics_1.12.0.tar.gz PackageFileSize: 3.828 MiB