Package: timeOmics Version: 1.12.0 Command: rm -rf timeOmics.buildbin-libdir && mkdir timeOmics.buildbin-libdir && /Users/biocbuild/BBS/utils/build-universal.sh timeOmics_1.12.0.tar.gz /Library/Frameworks/R.framework/Resources/bin/R timeOmics.buildbin-libdir StartedAt: 2023-10-19 17:50:17 -0400 (Thu, 19 Oct 2023) EndedAt: 2023-10-19 17:50:49 -0400 (Thu, 19 Oct 2023) EllapsedTime: 31.2 seconds RetCode: 0 Status: OK PackageFile: timeOmics_1.12.0.tgz PackageFileSize: 3.241 MiB