Package: tigre Version: 1.54.0 Command: /Library/Frameworks/R.framework/Resources/bin/R CMD INSTALL tigre StartedAt: 2023-10-15 16:04:48 -0400 (Sun, 15 Oct 2023) EndedAt: 2023-10-15 16:05:27 -0400 (Sun, 15 Oct 2023) EllapsedTime: 38.4 seconds RetCode: 0 Status: OK