git_url: https://git.bioconductor.org/packages/tanggle git_branch: RELEASE_3_17 git_last_commit: 3d94960 git_last_commit_date: 2023-04-25 11:32:20 -0400 (Tue, 25 Apr 2023) Package: tanggle Version: 1.6.0 Maintainer: Klaus Schliep MaintainerEmail: klaus.schliep at gmail.com