git_url: https://git.bioconductor.org/packages/synapsis git_branch: RELEASE_3_17 git_last_commit: ccb6fee git_last_commit_date: 2023-04-25 11:34:05 -0400 (Tue, 25 Apr 2023) Package: synapsis Version: 1.6.0 Maintainer: Lucy McNeill MaintainerEmail: luc.mcneill at gmail.com