Package: switchBox Version: 1.36.0 Command: /Library/Frameworks/R.framework/Resources/bin/R CMD build --keep-empty-dirs --no-resave-data switchBox StartedAt: 2023-10-16 22:43:55 -0400 (Mon, 16 Oct 2023) EndedAt: 2023-10-16 22:44:23 -0400 (Mon, 16 Oct 2023) EllapsedTime: 28.4 seconds RetCode: 0 Status: OK PackageFile: switchBox_1.36.0.tar.gz PackageFileSize: 471.4 KiB