Package: swfdr Version: 1.26.0 Command: /Library/Frameworks/R.framework/Resources/bin/R CMD check --install=check:swfdr.install-out.txt --library=/Library/Frameworks/R.framework/Resources/library --no-vignettes --timings swfdr_1.26.0.tar.gz StartedAt: 2023-10-19 05:47:46 -0400 (Thu, 19 Oct 2023) EndedAt: 2023-10-19 05:48:47 -0400 (Thu, 19 Oct 2023) EllapsedTime: 60.3 seconds RetCode: 0 Status: WARNINGS CheckDir: swfdr.Rcheck Warnings: 1