Package: surfaltr Version: 1.6.0 Command: /Library/Frameworks/R.framework/Resources/bin/R CMD check --install=check:surfaltr.install-out.txt --library=/Library/Frameworks/R.framework/Resources/library --no-vignettes --timings surfaltr_1.6.0.tar.gz StartedAt: 2023-10-19 05:32:03 -0400 (Thu, 19 Oct 2023) EndedAt: 2023-10-19 05:36:17 -0400 (Thu, 19 Oct 2023) EllapsedTime: 254.4 seconds RetCode: 0 Status: OK CheckDir: surfaltr.Rcheck Warnings: 0